BEGIN:VCALENDAR
VERSION:2.0
PRODID:-//Plone.org//NONSGML plone.app.event//EN
X-WR-TIMEZONE:Europe/Rome
BEGIN:VEVENT
SUMMARY:I DIRITTI SOCIALI IN EUROPA: ASSETTI E PROCESSI EVOLUTIVI
DTSTART;TZID=Europe/Rome;VALUE=DATE-TIME:20210412T120000
DTEND;TZID=Europe/Rome;VALUE=DATE-TIME:20210412T130000
DTSTAMP;VALUE=DATE-TIME:20260426T042950Z
UID:b044f2aad1d649aba6e5f43638774a42@sde.unibo.it
CREATED;VALUE=DATE-TIME:20210331T121317Z
DESCRIPTION:Incontro inaugurale I 12 aprile 2021 I 10-13 I ONLINE
LAST-MODIFIED;VALUE=DATE-TIME:20210331T121512Z
URL:https://sde.unibo.it/it/eventi/i-diritti-sociali-in-europa-assetti-e-p
 rocessi-evolutivi
END:VEVENT
BEGIN:VTIMEZONE
TZID:Europe/Rome
X-LIC-LOCATION:Europe/Rome
BEGIN:DAYLIGHT
DTSTART;VALUE=DATE-TIME:20210328T030000
TZNAME:CEST
TZOFFSETFROM:+0100
TZOFFSETTO:+0200
END:DAYLIGHT
END:VTIMEZONE
END:VCALENDAR
