BEGIN:VCALENDAR
VERSION:2.0
PRODID:-//Plone.org//NONSGML plone.app.event//EN
X-WR-TIMEZONE:Europe/Rome
BEGIN:VEVENT
SUMMARY:I consulenti di voto di Gaia Balp
DTSTART;VALUE=DATE:20180516
DTEND;VALUE=DATE:20180517
DTSTAMP;VALUE=DATE-TIME:20260423T000113Z
UID:b67d19a30dd440c182720b081a3115a8@sde.unibo.it
CREATED;VALUE=DATE-TIME:20180508T102840Z
DESCRIPTION:Una conversazione a più voci in occasione della presentazione
  del volume
LAST-MODIFIED;VALUE=DATE-TIME:20180508T102905Z
URL:https://sde.unibo.it/it/eventi/i-consulenti-di-voto-di-gaia-balp
END:VEVENT
END:VCALENDAR
