BEGIN:VCALENDAR
VERSION:2.0
PRODID:-//Plone.org//NONSGML plone.app.event//EN
X-WR-TIMEZONE:Europe/Rome
BEGIN:VEVENT
SUMMARY:Una Europa - applied studies on collaborative information behaviou
 r in a digital environment - 17 e 19 maggio
DTSTART;VALUE=DATE:20210517
DTEND;VALUE=DATE:20210520
DTSTAMP;VALUE=DATE-TIME:20260426T030634Z
UID:bba5b95117cd4f188760701a7691b91f@sde.unibo.it
CREATED;VALUE=DATE-TIME:20210503T092132Z
DESCRIPTION:Partecipa al workshop Una Masterclass per dottorandi
LAST-MODIFIED;VALUE=DATE-TIME:20210503T092132Z
URL:https://sde.unibo.it/it/eventi/https-site-unibo-it-una-europa-en-news-
 applied-studies-on-collaborative-information-behaviour-in-a-digital-enviro
 nment-17-and-19-may-2021
END:VEVENT
END:VCALENDAR
