BEGIN:VCALENDAR
VERSION:2.0
PRODID:-//Plone.org//NONSGML plone.app.event//EN
X-WR-TIMEZONE:Europe/Rome
BEGIN:VEVENT
SUMMARY:How IR could help SMEs in Tourism - The emerging SRSS landscape
DTSTART;TZID=Europe/Rome;VALUE=DATE-TIME:20220928T110000
DTEND;TZID=Europe/Rome;VALUE=DATE-TIME:20220928T120000
DTSTAMP;VALUE=DATE-TIME:20260426T010114Z
UID:abb765fd4a5f42b4916d63ef1820935b@sde.unibo.it
CREATED;VALUE=DATE-TIME:20220913T093928Z
DESCRIPTION:Professor Charl de Villiers\, introduce prof.ssa Federica Farn
 eti
LAST-MODIFIED;VALUE=DATE-TIME:20220913T093958Z
URL:https://sde.unibo.it/it/eventi/how-ir-could-help-smes-in-tourism-the-e
 merging-srss-landscape
END:VEVENT
BEGIN:VTIMEZONE
TZID:Europe/Rome
X-LIC-LOCATION:Europe/Rome
BEGIN:DAYLIGHT
DTSTART;VALUE=DATE-TIME:20220327T030000
TZNAME:CEST
TZOFFSETFROM:+0100
TZOFFSETTO:+0200
END:DAYLIGHT
END:VTIMEZONE
END:VCALENDAR
