BEGIN:VCALENDAR
VERSION:2.0
PRODID:-//Plone.org//NONSGML plone.app.event//EN
X-WR-TIMEZONE:Europe/Rome
BEGIN:VEVENT
SUMMARY:Homo Ludens. Fare impresa tra gioco e limiti.
DTSTART;TZID=Europe/Rome;VALUE=DATE-TIME:20181130T100000
DTEND;TZID=Europe/Rome;VALUE=DATE-TIME:20181130T153000
DTSTAMP;VALUE=DATE-TIME:20260424T025106Z
UID:d488324d9d9444bf96eb3219b192ea45@sde.unibo.it
CREATED;VALUE=DATE-TIME:20181126T090325Z
LAST-MODIFIED;VALUE=DATE-TIME:20181126T115248Z
URL:https://sde.unibo.it/it/eventi/homo-ludens.-fare-impresa-tra-gioco-e-l
 imiti
END:VEVENT
BEGIN:VTIMEZONE
TZID:Europe/Rome
X-LIC-LOCATION:Europe/Rome
BEGIN:STANDARD
DTSTART;VALUE=DATE-TIME:20181028T020000
TZNAME:CET
TZOFFSETFROM:+0200
TZOFFSETTO:+0100
END:STANDARD
END:VTIMEZONE
END:VCALENDAR
