BEGIN:VCALENDAR
VERSION:2.0
PRODID:-//Plone.org//NONSGML plone.app.event//EN
X-WR-TIMEZONE:Europe/Rome
BEGIN:VEVENT
SUMMARY:Health inequalities: why equity is the answer. 
DTSTART;TZID=Europe/Rome;VALUE=DATE-TIME:20181023T090000
DTEND;TZID=Europe/Rome;VALUE=DATE-TIME:20181023T110000
DTSTAMP;VALUE=DATE-TIME:20260424T092636Z
UID:95ce3ca92e354ca3997a241988039c60@sde.unibo.it
CREATED;VALUE=DATE-TIME:20181018T060002Z
DESCRIPTION:Scuola di Scienze Politiche - vicepresidenza di Forlì Alma Ma
 ter Studiorum
LAST-MODIFIED;VALUE=DATE-TIME:20181018T060200Z
URL:https://sde.unibo.it/it/eventi/health-inequalities-why-equity-is-the-a
 nswer
END:VEVENT
BEGIN:VTIMEZONE
TZID:Europe/Rome
X-LIC-LOCATION:Europe/Rome
BEGIN:DAYLIGHT
DTSTART;VALUE=DATE-TIME:20180325T030000
TZNAME:CEST
TZOFFSETFROM:+0100
TZOFFSETTO:+0200
END:DAYLIGHT
END:VTIMEZONE
END:VCALENDAR
