BEGIN:VCALENDAR
VERSION:2.0
PRODID:-//Plone.org//NONSGML plone.app.event//EN
X-WR-TIMEZONE:Europe/Rome
BEGIN:VEVENT
SUMMARY:Global digital society\, platformization and prosumption
DTSTART;TZID=Europe/Rome;VALUE=DATE-TIME:20220202T161500
DTEND;TZID=Europe/Rome;VALUE=DATE-TIME:20220202T174500
DTSTAMP;VALUE=DATE-TIME:20260424T230719Z
UID:801788c3a06445b4bd9f1aaa27cc5786@sde.unibo.it
CREATED;VALUE=DATE-TIME:20220120T132132Z
DESCRIPTION:Colloquium Series - Sociology of Transnationalization “The t
 ransnational lens” presso l'Universität Bielefeld. Il seminario sarà t
 enuto dal Prof. Degli Esposti (UNIBO).
LAST-MODIFIED;VALUE=DATE-TIME:20220120T132729Z
URL:https://sde.unibo.it/it/eventi/global-digital-society
END:VEVENT
BEGIN:VTIMEZONE
TZID:Europe/Rome
X-LIC-LOCATION:Europe/Rome
BEGIN:STANDARD
DTSTART;VALUE=DATE-TIME:20211031T020000
TZNAME:CET
TZOFFSETFROM:+0200
TZOFFSETTO:+0100
END:STANDARD
END:VTIMEZONE
END:VCALENDAR
