BEGIN:VCALENDAR
VERSION:2.0
PRODID:-//Plone.org//NONSGML plone.app.event//EN
X-WR-TIMEZONE:Europe/Rome
BEGIN:VEVENT
SUMMARY:Gli Enti del Terzo Settore: ruolo\, funzioni e rapporti giuridici 
 con le pubbliche amministrazioni territoriali
DTSTART;TZID=Europe/Rome;VALUE=DATE-TIME:20240926T170000
DTEND;TZID=Europe/Rome;VALUE=DATE-TIME:20240926T190000
DTSTAMP;VALUE=DATE-TIME:20260422T081914Z
UID:ddebd3de5eb448c2914912cac51854c8@sde.unibo.it
CREATED;VALUE=DATE-TIME:20240903T100646Z
DESCRIPTION:Il seminario intende contribuire a comprendere come gli Enti d
 el Terzo settore possano costruire percorsi duraturi\, efficaci e innovati
 vi con gli enti locali\, in particolare\, nel settore del welfare.
LAST-MODIFIED;VALUE=DATE-TIME:20240903T100720Z
URL:https://sde.unibo.it/it/eventi/gli-enti-del-terzo-settore-ruolo-funzio
 ni-e-rapporti-giuridici-con-le-pubbliche-amministrazioni-territoriali
END:VEVENT
BEGIN:VTIMEZONE
TZID:Europe/Rome
X-LIC-LOCATION:Europe/Rome
BEGIN:DAYLIGHT
DTSTART;VALUE=DATE-TIME:20240331T030000
TZNAME:CEST
TZOFFSETFROM:+0100
TZOFFSETTO:+0200
END:DAYLIGHT
END:VTIMEZONE
END:VCALENDAR
