BEGIN:VCALENDAR
VERSION:2.0
PRODID:-//Plone.org//NONSGML plone.app.event//EN
X-WR-TIMEZONE:Europe/Rome
BEGIN:VEVENT
SUMMARY:Giustizia climatica e diritto alla mobilità: il ruolo dei media
DTSTART;TZID=Europe/Rome;VALUE=DATE-TIME:20231108T130000
DTEND;TZID=Europe/Rome;VALUE=DATE-TIME:20231108T150000
DTSTAMP;VALUE=DATE-TIME:20260421T170259Z
UID:943997dc87614578bb3c099d979679ad@sde.unibo.it
CREATED;VALUE=DATE-TIME:20231016T133056Z
DESCRIPTION:Evento organizzato all'interno del progetto "Reimagining Mobil
 ities. Prospettive creative per reimmaginare mobilità\, confini e alterit
 à".
LAST-MODIFIED;VALUE=DATE-TIME:20231016T133056Z
URL:https://sde.unibo.it/it/eventi/giustizia-climatica-e-diritto-alla-mobi
 lita-il-ruolo-dei-media
END:VEVENT
BEGIN:VTIMEZONE
TZID:Europe/Rome
X-LIC-LOCATION:Europe/Rome
BEGIN:STANDARD
DTSTART;VALUE=DATE-TIME:20231029T020000
TZNAME:CET
TZOFFSETFROM:+0200
TZOFFSETTO:+0100
END:STANDARD
END:VTIMEZONE
END:VCALENDAR
