BEGIN:VCALENDAR
VERSION:2.0
PRODID:-//Plone.org//NONSGML plone.app.event//EN
X-WR-TIMEZONE:Europe/Rome
BEGIN:VEVENT
SUMMARY:Giornata di studi Utopia vs realismo? A 500 anni dall’«Utopia»
  di Thomas More
DTSTART;TZID=Europe/Rome;VALUE=DATE-TIME:20160513T091500
DTEND;TZID=Europe/Rome;VALUE=DATE-TIME:20160513T170000
DTSTAMP;VALUE=DATE-TIME:20260422T204506Z
UID:cc9f221402d84cbb889eb75f0cf0cb50@sde.unibo.it
CREATED;VALUE=DATE-TIME:20160427T153742Z
LAST-MODIFIED;VALUE=DATE-TIME:20160427T154233Z
URL:https://sde.unibo.it/it/eventi/giornata-di-studi-utopia-vs-realismo-a-
 500-anni-dall2019-utopia-di-thomas-more
END:VEVENT
BEGIN:VTIMEZONE
TZID:Europe/Rome
X-LIC-LOCATION:Europe/Rome
BEGIN:DAYLIGHT
DTSTART;VALUE=DATE-TIME:20160327T030000
TZNAME:CEST
TZOFFSETFROM:+0100
TZOFFSETTO:+0200
END:DAYLIGHT
END:VTIMEZONE
END:VCALENDAR
