BEGIN:VCALENDAR
VERSION:2.0
PRODID:-//Plone.org//NONSGML plone.app.event//EN
X-WR-TIMEZONE:Europe/Rome
BEGIN:VEVENT
SUMMARY:Fintech e Big data: rischi e opportunità per l’inclusione finan
 ziaria e la tutela del consumatore
DTSTART;VALUE=DATE:20180530
DTEND;VALUE=DATE:20180531
DTSTAMP;VALUE=DATE-TIME:20260422T221110Z
UID:e99ee8a9e61243c0bcf3321a1e0900f4@sde.unibo.it
CREATED;VALUE=DATE-TIME:20180530T084355Z
DESCRIPTION:L’iniziativa si svolge con il patrocinio del Campus di Forl
 ì
LAST-MODIFIED;VALUE=DATE-TIME:20180530T084449Z
URL:https://sde.unibo.it/it/eventi/fintech-e-big-data-rischi-e-opportunita
 -per-l2019inclusione-finanziaria-e-la-tutela-del-consumatore
END:VEVENT
END:VCALENDAR
