BEGIN:VCALENDAR
VERSION:2.0
PRODID:-//Plone.org//NONSGML plone.app.event//EN
X-WR-TIMEZONE:Europe/Rome
BEGIN:VEVENT
SUMMARY:Finanza comportamentale e etica dei comportamenti
DTSTART;TZID=Europe/Rome;VALUE=DATE-TIME:20190206T090000
DTEND;TZID=Europe/Rome;VALUE=DATE-TIME:20190206T130000
DTSTAMP;VALUE=DATE-TIME:20260424T092636Z
UID:9cf4145500b54abaa9f5ed4cbfef0ffb@sde.unibo.it
CREATED;VALUE=DATE-TIME:20190124T110032Z
LAST-MODIFIED;VALUE=DATE-TIME:20190124T110102Z
URL:https://sde.unibo.it/it/eventi/finanza-comportamentale-e-etica-dei-com
 portamenti
END:VEVENT
BEGIN:VTIMEZONE
TZID:Europe/Rome
X-LIC-LOCATION:Europe/Rome
BEGIN:STANDARD
DTSTART;VALUE=DATE-TIME:20181028T020000
TZNAME:CET
TZOFFSETFROM:+0200
TZOFFSETTO:+0100
END:STANDARD
END:VTIMEZONE
END:VCALENDAR
