BEGIN:VCALENDAR
VERSION:2.0
PRODID:-//Plone.org//NONSGML plone.app.event//EN
X-WR-TIMEZONE:Europe/Rome
BEGIN:VEVENT
SUMMARY:Evento finale Progetto GRETA (Green Energy Transitions Actions)
DTSTART;TZID=Europe/Rome;VALUE=DATE-TIME:20231020T093000
DTEND;TZID=Europe/Rome;VALUE=DATE-TIME:20231020T163000
DTSTAMP;VALUE=DATE-TIME:20260421T124220Z
UID:ae2ce239554b4cd4a420e9993441fe13@sde.unibo.it
CREATED;VALUE=DATE-TIME:20231017T084634Z
DESCRIPTION:Il Progetto GRETA promuove la cittadinanza energetica all'inte
 rno dell'UE\, rimuovendo le barriere politiche e sensibilizzando l'opinion
 e pubblica sull'importanza dell'energia sostenibile.
LAST-MODIFIED;VALUE=DATE-TIME:20231017T084634Z
URL:https://sde.unibo.it/it/eventi/evento-finale-progetto-greta-green-ener
 gy-transitions-actions
END:VEVENT
BEGIN:VTIMEZONE
TZID:Europe/Rome
X-LIC-LOCATION:Europe/Rome
BEGIN:DAYLIGHT
DTSTART;VALUE=DATE-TIME:20230326T030000
TZNAME:CEST
TZOFFSETFROM:+0100
TZOFFSETTO:+0200
END:DAYLIGHT
END:VTIMEZONE
END:VCALENDAR
