BEGIN:VCALENDAR
VERSION:2.0
PRODID:-//Plone.org//NONSGML plone.app.event//EN
X-WR-TIMEZONE:Europe/Rome
BEGIN:VEVENT
SUMMARY:Eventi SDE sospesi
DTSTART;VALUE=DATE:20200418
DTEND;VALUE=DATE:20200506
DTSTAMP;VALUE=DATE-TIME:20260423T164511Z
UID:d3a143586c114ab89b3ffd7bc61be3b7@sde.unibo.it
CREATED;VALUE=DATE-TIME:20200418T172151Z
DESCRIPTION:Tutti gli eventi programmati da SDE sono al momento sospesi o 
 cancellati fino a fine emergenza COVID19.\nAppena avremo nuove direttive p
 rovvederemo ad aggiornare l'elenco delle iniziative
LAST-MODIFIED;VALUE=DATE-TIME:20200418T172151Z
URL:https://sde.unibo.it/it/eventi/eventi-sde-sospesi
END:VEVENT
END:VCALENDAR
