BEGIN:VCALENDAR
VERSION:2.0
PRODID:-//Plone.org//NONSGML plone.app.event//EN
X-WR-TIMEZONE:Europe/Rome
BEGIN:VEVENT
SUMMARY:Eu minimum wage at its last mile: expectations and perspectives
DTSTART;TZID=Europe/Rome;VALUE=DATE-TIME:20201130T163000
DTEND;TZID=Europe/Rome;VALUE=DATE-TIME:20201130T183000
DTSTAMP;VALUE=DATE-TIME:20260424T092646Z
UID:53290f3ec21a4838aa04dd25beeeb2b0@sde.unibo.it
CREATED;VALUE=DATE-TIME:20201123T152228Z
DESCRIPTION:Roundtable
LAST-MODIFIED;VALUE=DATE-TIME:20201123T152335Z
URL:https://sde.unibo.it/it/eventi/eu-minimum-wage-at-its-last-mile-expect
 ations-and-perspectives
END:VEVENT
BEGIN:VTIMEZONE
TZID:Europe/Rome
X-LIC-LOCATION:Europe/Rome
BEGIN:STANDARD
DTSTART;VALUE=DATE-TIME:20201025T020000
TZNAME:CET
TZOFFSETFROM:+0200
TZOFFSETTO:+0100
END:STANDARD
END:VTIMEZONE
END:VCALENDAR
