BEGIN:VCALENDAR
VERSION:2.0
PRODID:-//Plone.org//NONSGML plone.app.event//EN
X-WR-TIMEZONE:Europe/Rome
BEGIN:VEVENT
SUMMARY:Esperienze detentive e percorsi di reinserimento sociale. Carcere 
 e pene alternative
DTSTART;TZID=Europe/Rome;VALUE=DATE-TIME:20171107T110000
DTEND;TZID=Europe/Rome;VALUE=DATE-TIME:20171107T130000
DTSTAMP;VALUE=DATE-TIME:20260422T204524Z
UID:0878763b3c2e44058dff0f217c97a8fe@sde.unibo.it
CREATED;VALUE=DATE-TIME:20171010T124237Z
LAST-MODIFIED;VALUE=DATE-TIME:20171010T124523Z
URL:https://sde.unibo.it/it/eventi/esperienze-detentive-e-percorsi-di-rein
 serimento-sociale.-carcere-e-pene-alternative
END:VEVENT
BEGIN:VTIMEZONE
TZID:Europe/Rome
X-LIC-LOCATION:Europe/Rome
BEGIN:STANDARD
DTSTART;VALUE=DATE-TIME:20171029T020000
TZNAME:CET
TZOFFSETFROM:+0200
TZOFFSETTO:+0100
END:STANDARD
END:VTIMEZONE
END:VCALENDAR
