BEGIN:VCALENDAR
VERSION:2.0
PRODID:-//Plone.org//NONSGML plone.app.event//EN
X-WR-TIMEZONE:Europe/Rome
BEGIN:VEVENT
SUMMARY:Emerging Platform Society International Conference
DTSTART;TZID=Europe/Rome;VALUE=DATE-TIME:20220406T100000
DTEND;TZID=Europe/Rome;VALUE=DATE-TIME:20220408T123000
DTSTAMP;VALUE=DATE-TIME:20260419T162204Z
UID:b04b5510d5894255967b57870119f6b5@sde.unibo.it
CREATED;VALUE=DATE-TIME:20220309T162835Z
DESCRIPTION:Conferenza internazionale sui temi legati alla società delle 
 piattaforme e ai contesti della digitalizzazione con stimati ospiti intern
 azionali per una dibattito intercontinentale e multidisciplinare
LAST-MODIFIED;VALUE=DATE-TIME:20220309T163406Z
URL:https://sde.unibo.it/it/eventi/emerging-platform-society-international
 -conference
END:VEVENT
BEGIN:VTIMEZONE
TZID:Europe/Rome
X-LIC-LOCATION:Europe/Rome
BEGIN:DAYLIGHT
DTSTART;VALUE=DATE-TIME:20220327T030000
TZNAME:CEST
TZOFFSETFROM:+0100
TZOFFSETTO:+0200
END:DAYLIGHT
END:VTIMEZONE
END:VCALENDAR
