BEGIN:VCALENDAR
VERSION:2.0
PRODID:-//Plone.org//NONSGML plone.app.event//EN
X-WR-TIMEZONE:Europe/Rome
BEGIN:VEVENT
SUMMARY:Effetto Farfalla: Cambiamo le parole per cambiare il mondo
DTSTART;TZID=Europe/Rome;VALUE=DATE-TIME:20230306T150000
DTEND;TZID=Europe/Rome;VALUE=DATE-TIME:20230515T170000
DTSTAMP;VALUE=DATE-TIME:20260421T135738Z
UID:fd12ccecdbb04edcb58e766baaa396e2@sde.unibo.it
CREATED;VALUE=DATE-TIME:20230215T142808Z
LAST-MODIFIED;VALUE=DATE-TIME:20230306T145152Z
URL:https://sde.unibo.it/it/eventi/effetto-farfalla-cambiamo-le-parole-per
 -cambiare-il-mondo
END:VEVENT
BEGIN:VTIMEZONE
TZID:Europe/Rome
X-LIC-LOCATION:Europe/Rome
BEGIN:STANDARD
DTSTART;VALUE=DATE-TIME:20221030T020000
TZNAME:CET
TZOFFSETFROM:+0200
TZOFFSETTO:+0100
END:STANDARD
BEGIN:DAYLIGHT
DTSTART;VALUE=DATE-TIME:20230326T030000
TZNAME:CEST
TZOFFSETFROM:+0100
TZOFFSETTO:+0200
END:DAYLIGHT
END:VTIMEZONE
END:VCALENDAR
