BEGIN:VCALENDAR
VERSION:2.0
PRODID:-//Plone.org//NONSGML plone.app.event//EN
X-WR-TIMEZONE:Europe/Rome
BEGIN:VEVENT
SUMMARY:Doctoral Colloquium on Social and environmental accounting\, che s
 i svolgerà a Forlì il pomeriggio del 29 giugno 2018  in Piazzale della V
 ittoria 15
DTSTART;VALUE=DATE:20180629
DTEND;VALUE=DATE:20180630
DTSTAMP;VALUE=DATE-TIME:20260422T221639Z
UID:47acf39d71a1405fa7b3dfc0f3f36025@sde.unibo.it
CREATED;VALUE=DATE-TIME:20180417T091034Z
LAST-MODIFIED;VALUE=DATE-TIME:20180417T091150Z
URL:https://sde.unibo.it/it/eventi/doctoral-colloquium-on-social-and-envir
 onmental-accounting-che-si-svolgera-a-forli-il-pomeriggio-del-29-giugno-20
 18-in-piazzale-della-vittoria-15
END:VEVENT
END:VCALENDAR
