BEGIN:VCALENDAR
VERSION:2.0
PRODID:-//Plone.org//NONSGML plone.app.event//EN
X-WR-TIMEZONE:Europe/Rome
BEGIN:VEVENT
SUMMARY:Digital expulsions. Refugees’ carcerality and the technological 
 disruption of asylum
DTSTART;TZID=Europe/Rome;VALUE=DATE-TIME:20231113T130000
DTEND;TZID=Europe/Rome;VALUE=DATE-TIME:20231113T150000
DTSTAMP;VALUE=DATE-TIME:20260421T170428Z
UID:22e4a6f6887340c5aad87e4443d175fb@sde.unibo.it
CREATED;VALUE=DATE-TIME:20231016T133219Z
DESCRIPTION:Evento organizzato all'interno del progetto "Reimagining Mobil
 ities. Prospettive creative per reimmaginare mobilità\, confini e alterit
 à".
LAST-MODIFIED;VALUE=DATE-TIME:20231016T133219Z
URL:https://sde.unibo.it/it/eventi/digital-expulsions-refugees-carcerality
 -and-the-technological-disruption-of-asylum
END:VEVENT
BEGIN:VTIMEZONE
TZID:Europe/Rome
X-LIC-LOCATION:Europe/Rome
BEGIN:STANDARD
DTSTART;VALUE=DATE-TIME:20231029T020000
TZNAME:CET
TZOFFSETFROM:+0200
TZOFFSETTO:+0100
END:STANDARD
END:VTIMEZONE
END:VCALENDAR
