BEGIN:VCALENDAR
VERSION:2.0
PRODID:-//Plone.org//NONSGML plone.app.event//EN
X-WR-TIMEZONE:Europe/Rome
BEGIN:VEVENT
SUMMARY:Da Bologna alla “Fin del Mundo”
DTSTART;TZID=Europe/Rome;VALUE=DATE-TIME:20171019T110000
DTEND;TZID=Europe/Rome;VALUE=DATE-TIME:20171019T130000
DTSTAMP;VALUE=DATE-TIME:20260422T204419Z
UID:84b7dade50494583aedca4a3727a1009@sde.unibo.it
CREATED;VALUE=DATE-TIME:20171005T065146Z
DESCRIPTION:Seminario (aperto a tutti) con l’autrice della ricerca\ndott
 .ssa Rosa Maria Travaglini\ne uno dei testimoni della vicenda\ndott. Marco
  David
LAST-MODIFIED;VALUE=DATE-TIME:20171005T065204Z
URL:https://sde.unibo.it/it/eventi/da-bologna-alla-201cfin-del-mundo201d
END:VEVENT
BEGIN:VTIMEZONE
TZID:Europe/Rome
X-LIC-LOCATION:Europe/Rome
BEGIN:DAYLIGHT
DTSTART;VALUE=DATE-TIME:20170326T030000
TZNAME:CEST
TZOFFSETFROM:+0100
TZOFFSETTO:+0200
END:DAYLIGHT
END:VTIMEZONE
END:VCALENDAR
