BEGIN:VCALENDAR
VERSION:2.0
PRODID:-//Plone.org//NONSGML plone.app.event//EN
X-WR-TIMEZONE:Europe/Rome
BEGIN:VEVENT
SUMMARY:Da Bologna alla “Fin del Mundo” Seminario (aperto a tutti)
DTSTART;TZID=Europe/Rome;VALUE=DATE-TIME:20161019T110000
DTEND;TZID=Europe/Rome;VALUE=DATE-TIME:20161019T133000
DTSTAMP;VALUE=DATE-TIME:20260422T162709Z
UID:b2bf3cdfdebc4eb0a6a9c3dccf99a1a4@sde.unibo.it
CREATED;VALUE=DATE-TIME:20161007T073733Z
DESCRIPTION:Dipartimento di Sociologia e Diritto dell’Economia Corso di 
 Metodologia della Ricerca Sociale Prof. Leonardo Altieri
LAST-MODIFIED;VALUE=DATE-TIME:20161007T073740Z
URL:https://sde.unibo.it/it/eventi/da-bologna-alla-201cfin-del-mundo201d-s
 eminario-aperto-a-tutti
END:VEVENT
BEGIN:VTIMEZONE
TZID:Europe/Rome
X-LIC-LOCATION:Europe/Rome
BEGIN:DAYLIGHT
DTSTART;VALUE=DATE-TIME:20160327T030000
TZNAME:CEST
TZOFFSETFROM:+0100
TZOFFSETTO:+0200
END:DAYLIGHT
END:VTIMEZONE
END:VCALENDAR
