BEGIN:VCALENDAR
VERSION:2.0
PRODID:-//Plone.org//NONSGML plone.app.event//EN
X-WR-TIMEZONE:Europe/Rome
BEGIN:VEVENT
SUMMARY:CSR\, Sustainability Reporting and Circular Economy
DTSTART;TZID=Europe/Rome;VALUE=DATE-TIME:20220921T100000
DTEND;TZID=Europe/Rome;VALUE=DATE-TIME:20220921T110000
DTSTAMP;VALUE=DATE-TIME:20260425T000831Z
UID:4cf372ffd0ea49b5be093c1c6bb1fc25@sde.unibo.it
CREATED;VALUE=DATE-TIME:20220913T092806Z
DESCRIPTION:Professor Christine Helliar\, introduce prof.ssa Federica Farn
 eti
LAST-MODIFIED;VALUE=DATE-TIME:20220913T092912Z
URL:https://sde.unibo.it/it/eventi/csr-sustainability-reporting-and-circul
 ar-economy
END:VEVENT
BEGIN:VTIMEZONE
TZID:Europe/Rome
X-LIC-LOCATION:Europe/Rome
BEGIN:DAYLIGHT
DTSTART;VALUE=DATE-TIME:20220327T030000
TZNAME:CEST
TZOFFSETFROM:+0100
TZOFFSETTO:+0200
END:DAYLIGHT
END:VTIMEZONE
END:VCALENDAR
