BEGIN:VCALENDAR
VERSION:2.0
PRODID:-//Plone.org//NONSGML plone.app.event//EN
X-WR-TIMEZONE:Europe/Rome
BEGIN:VEVENT
SUMMARY:Creating impact for One Health and EcoHealth
DTSTART;VALUE=DATE:20180910
DTEND;VALUE=DATE:20180913
DTSTAMP;VALUE=DATE-TIME:20260423T050300Z
UID:9b68b32282fa465da2d0d6f26397a886@sde.unibo.it
CREATED;VALUE=DATE-TIME:20180717T093822Z
DESCRIPTION:advancements in implementation\, evaluation\, and governance
LAST-MODIFIED;VALUE=DATE-TIME:20180717T094408Z
URL:https://sde.unibo.it/it/eventi/creating-impact-for-one-health-and-ecoh
 ealth
END:VEVENT
END:VCALENDAR
