BEGIN:VCALENDAR
VERSION:2.0
PRODID:-//Plone.org//NONSGML plone.app.event//EN
X-WR-TIMEZONE:Europe/Rome
BEGIN:VEVENT
SUMMARY:Cosa succede quando la crisi climatica ci rende immobili?
DTSTART;TZID=Europe/Rome;VALUE=DATE-TIME:20240625T170000
DTEND;TZID=Europe/Rome;VALUE=DATE-TIME:20240625T190000
DTSTAMP;VALUE=DATE-TIME:20260422T025219Z
UID:e5fa9defcd90494b8a4bd20f566f2553@sde.unibo.it
CREATED;VALUE=DATE-TIME:20240528T090325Z
DESCRIPTION:Storie e racconti dell’alluvione in Emilia-Romagna per esplo
 rare i nessi tra crisi climatica e immobilismo
LAST-MODIFIED;VALUE=DATE-TIME:20240528T090517Z
URL:https://sde.unibo.it/it/eventi/cosa-succede-quando-la-crisi-climatica-
 ci-rende-immobili
END:VEVENT
BEGIN:VTIMEZONE
TZID:Europe/Rome
X-LIC-LOCATION:Europe/Rome
BEGIN:DAYLIGHT
DTSTART;VALUE=DATE-TIME:20240331T030000
TZNAME:CEST
TZOFFSETFROM:+0100
TZOFFSETTO:+0200
END:DAYLIGHT
END:VTIMEZONE
END:VCALENDAR
