BEGIN:VCALENDAR
VERSION:2.0
PRODID:-//Plone.org//NONSGML plone.app.event//EN
X-WR-TIMEZONE:Europe/Rome
BEGIN:VEVENT
SUMMARY:Corporate responsibility\, sustainability & markets 
DTSTART;TZID=Europe/Rome;VALUE=DATE-TIME:20191022T150000
DTEND;TZID=Europe/Rome;VALUE=DATE-TIME:20191022T180000
DTSTAMP;VALUE=DATE-TIME:20260424T062730Z
UID:2cef135bd7dc4081af271d84ea92ad46@sde.unibo.it
CREATED;VALUE=DATE-TIME:20190925T105525Z
LAST-MODIFIED;VALUE=DATE-TIME:20190925T105901Z
URL:https://sde.unibo.it/it/eventi/corporate-responsibility-sustainability
 -markets
END:VEVENT
BEGIN:VTIMEZONE
TZID:Europe/Rome
X-LIC-LOCATION:Europe/Rome
BEGIN:DAYLIGHT
DTSTART;VALUE=DATE-TIME:20190331T030000
TZNAME:CEST
TZOFFSETFROM:+0100
TZOFFSETTO:+0200
END:DAYLIGHT
END:VTIMEZONE
END:VCALENDAR
