BEGIN:VCALENDAR
VERSION:2.0
PRODID:-//Plone.org//NONSGML plone.app.event//EN
X-WR-TIMEZONE:Europe/Rome
BEGIN:VEVENT
SUMMARY:The weight of expectation: obesity\, stigma and embodiment
DTSTART;TZID=Europe/Rome;VALUE=DATE-TIME:20181024T150000
DTEND;TZID=Europe/Rome;VALUE=DATE-TIME:20181024T170000
DTSTAMP;VALUE=DATE-TIME:20260424T025142Z
UID:7e4de5d7d5334e5a8c390d9a76e1fce7@sde.unibo.it
CREATED;VALUE=DATE-TIME:20181018T060002Z
DESCRIPTION:Scuola di Scienze Politiche - vicepresidenza di Forlì Alma Ma
 ter Studiorum
LAST-MODIFIED;VALUE=DATE-TIME:20181018T060749Z
URL:https://sde.unibo.it/it/eventi/copy_of_health-inequalities-why-equity-
 is-the-answer
END:VEVENT
BEGIN:VTIMEZONE
TZID:Europe/Rome
X-LIC-LOCATION:Europe/Rome
BEGIN:DAYLIGHT
DTSTART;VALUE=DATE-TIME:20180325T030000
TZNAME:CEST
TZOFFSETFROM:+0100
TZOFFSETTO:+0200
END:DAYLIGHT
END:VTIMEZONE
END:VCALENDAR
