BEGIN:VCALENDAR
VERSION:2.0
PRODID:-//Plone.org//NONSGML plone.app.event//EN
X-WR-TIMEZONE:Europe/Rome
BEGIN:VEVENT
SUMMARY:CONVEGNO DI STUDIO Verso quale riforma delle leggi elettorali poli
 tiche? 
DTSTART;TZID=Europe/Rome;VALUE=DATE-TIME:20170120T163000
DTEND;TZID=Europe/Rome;VALUE=DATE-TIME:20170120T183000
DTSTAMP;VALUE=DATE-TIME:20260422T192004Z
UID:73f107b1f33148ec992a4445d0fb22d4@sde.unibo.it
CREATED;VALUE=DATE-TIME:20170117T075831Z
LAST-MODIFIED;VALUE=DATE-TIME:20170117T075906Z
URL:https://sde.unibo.it/it/eventi/convegno-di-studio-verso-quale-riforma-
 delle-leggi-elettorali-politiche
END:VEVENT
BEGIN:VTIMEZONE
TZID:Europe/Rome
X-LIC-LOCATION:Europe/Rome
BEGIN:STANDARD
DTSTART;VALUE=DATE-TIME:20161030T020000
TZNAME:CET
TZOFFSETFROM:+0200
TZOFFSETTO:+0100
END:STANDARD
END:VTIMEZONE
END:VCALENDAR
