BEGIN:VCALENDAR
VERSION:2.0
PRODID:-//Plone.org//NONSGML plone.app.event//EN
X-WR-TIMEZONE:Europe/Rome
BEGIN:VEVENT
SUMMARY:Convegno "Cybersecurity e Data Protection"
DTSTART;TZID=Europe/Rome;VALUE=DATE-TIME:20170511T100000
DTEND;TZID=Europe/Rome;VALUE=DATE-TIME:20170511T180000
DTSTAMP;VALUE=DATE-TIME:20260422T230919Z
UID:7f1ede85788a4094948d545ae6dc7835@sde.unibo.it
CREATED;VALUE=DATE-TIME:20170505T080702Z
LAST-MODIFIED;VALUE=DATE-TIME:20170505T080714Z
URL:https://sde.unibo.it/it/eventi/convegno-cybersecurity-e-data-protectio
 n
END:VEVENT
BEGIN:VTIMEZONE
TZID:Europe/Rome
X-LIC-LOCATION:Europe/Rome
BEGIN:DAYLIGHT
DTSTART;VALUE=DATE-TIME:20170326T030000
TZNAME:CEST
TZOFFSETFROM:+0100
TZOFFSETTO:+0200
END:DAYLIGHT
END:VTIMEZONE
END:VCALENDAR
