BEGIN:VCALENDAR
VERSION:2.0
PRODID:-//Plone.org//NONSGML plone.app.event//EN
X-WR-TIMEZONE:Europe/Rome
BEGIN:VEVENT
SUMMARY:Consumption\, inequalities\, futures: Conceptual and practical soc
 iological challenges
DTSTART;TZID=Europe/Rome;VALUE=DATE-TIME:20160907T170000
DTEND;TZID=Europe/Rome;VALUE=DATE-TIME:20160910T133000
DTSTAMP;VALUE=DATE-TIME:20260423T051202Z
UID:b06bab6631ae46f2ba96762411a2f302@sde.unibo.it
CREATED;VALUE=DATE-TIME:20160830T094200Z
DESCRIPTION:ESA CONSUMPTION RN05 MIDTERM
LAST-MODIFIED;VALUE=DATE-TIME:20160830T094430Z
URL:https://sde.unibo.it/it/eventi/consumption-inequalities-futures-concep
 tual-and-practical-sociological-challenges
END:VEVENT
BEGIN:VTIMEZONE
TZID:Europe/Rome
X-LIC-LOCATION:Europe/Rome
BEGIN:DAYLIGHT
DTSTART;VALUE=DATE-TIME:20160327T030000
TZNAME:CEST
TZOFFSETFROM:+0100
TZOFFSETTO:+0200
END:DAYLIGHT
END:VTIMEZONE
END:VCALENDAR
