BEGIN:VCALENDAR
VERSION:2.0
PRODID:-//Plone.org//NONSGML plone.app.event//EN
X-WR-TIMEZONE:Europe/Rome
BEGIN:VEVENT
SUMMARY:Consumo sostenibile: sfide\, obiettivi\, strategie di responsabili
 tà condivisa
DTSTART;TZID=Europe/Rome;VALUE=DATE-TIME:20180604T093000
DTEND;TZID=Europe/Rome;VALUE=DATE-TIME:20180604T123000
DTSTAMP;VALUE=DATE-TIME:20260422T204627Z
UID:fbe2a2b79b49461cb9fc4038ba885394@sde.unibo.it
CREATED;VALUE=DATE-TIME:20180504T102427Z
DESCRIPTION:ESDW - Settimana Europea dello Sviluppo Sostenibile\n30 maggio
  – 5 giugno 2018
LAST-MODIFIED;VALUE=DATE-TIME:20180504T103023Z
URL:https://sde.unibo.it/it/eventi/consumo-sostenibile-sfide-obiettivi-str
 ategie-di-responsabilita-condivisa
END:VEVENT
BEGIN:VTIMEZONE
TZID:Europe/Rome
X-LIC-LOCATION:Europe/Rome
BEGIN:DAYLIGHT
DTSTART;VALUE=DATE-TIME:20180325T030000
TZNAME:CEST
TZOFFSETFROM:+0100
TZOFFSETTO:+0200
END:DAYLIGHT
END:VTIMEZONE
END:VCALENDAR
