BEGIN:VCALENDAR
VERSION:2.0
PRODID:-//Plone.org//NONSGML plone.app.event//EN
X-WR-TIMEZONE:Europe/Rome
BEGIN:VEVENT
SUMMARY:Conflitti socio-ecologici e sviluppo territoriale: dall'attivismo 
 di Antonio Cederna al caso della Terra dei Fuochi
DTSTART;TZID=Europe/Rome;VALUE=DATE-TIME:20250509T150000
DTEND;TZID=Europe/Rome;VALUE=DATE-TIME:20250509T190000
DTSTAMP;VALUE=DATE-TIME:20260419T212000Z
UID:5f92c7caa74c4df1b4544b5eaa808170@sde.unibo.it
CREATED;VALUE=DATE-TIME:20250506T101403Z
DESCRIPTION:Relazioni di: Milo Adami (Regista)\; Salvatore Paolo De Rosa (
 University of Copenhagen) Introduce e modera: Emanuele Leonardi
LAST-MODIFIED;VALUE=DATE-TIME:20250506T101423Z
URL:https://sde.unibo.it/it/eventi/conflitti-socio-ecologici-e-sviluppo-te
 rritoriale-dall-attivismo-di-antonio-cederna-al-caso-della-terra-dei-fuoch
 i
END:VEVENT
BEGIN:VTIMEZONE
TZID:Europe/Rome
X-LIC-LOCATION:Europe/Rome
BEGIN:DAYLIGHT
DTSTART;VALUE=DATE-TIME:20250330T030000
TZNAME:CEST
TZOFFSETFROM:+0100
TZOFFSETTO:+0200
END:DAYLIGHT
END:VTIMEZONE
END:VCALENDAR
