BEGIN:VCALENDAR
VERSION:2.0
PRODID:-//Plone.org//NONSGML plone.app.event//EN
X-WR-TIMEZONE:Europe/Rome
BEGIN:VEVENT
SUMMARY:CONFERENCE - Jean Monnet Centre of Excellence
DTSTART;TZID=Europe/Rome;VALUE=DATE-TIME:20210526T090000
DTEND;TZID=Europe/Rome;VALUE=DATE-TIME:20210526T160000
DTSTAMP;VALUE=DATE-TIME:20260419T145146Z
UID:fc7391468bd54c4382538066b3de07ee@sde.unibo.it
CREATED;VALUE=DATE-TIME:20210525T133145Z
DESCRIPTION:Integrated reporting and SMEs in the Digital Single Market
LAST-MODIFIED;VALUE=DATE-TIME:20210525T133500Z
URL:https://sde.unibo.it/it/eventi/conference
END:VEVENT
BEGIN:VTIMEZONE
TZID:Europe/Rome
X-LIC-LOCATION:Europe/Rome
BEGIN:DAYLIGHT
DTSTART;VALUE=DATE-TIME:20210328T030000
TZNAME:CEST
TZOFFSETFROM:+0100
TZOFFSETTO:+0200
END:DAYLIGHT
END:VTIMEZONE
END:VCALENDAR
