BEGIN:VCALENDAR
VERSION:2.0
PRODID:-//Plone.org//NONSGML plone.app.event//EN
X-WR-TIMEZONE:Europe/Rome
BEGIN:VEVENT
SUMMARY:Comunicare oltre gli stereotipi
DTSTART;TZID=Europe/Rome;VALUE=DATE-TIME:20240409T130000
DTEND;TZID=Europe/Rome;VALUE=DATE-TIME:20240409T150000
DTSTAMP;VALUE=DATE-TIME:20260419T151411Z
UID:63ec2f3df71f459fa4f945d71678a69e@sde.unibo.it
CREATED;VALUE=DATE-TIME:20240214T155145Z
LAST-MODIFIED;VALUE=DATE-TIME:20240214T160202Z
URL:https://sde.unibo.it/it/eventi/comunicare-oltre-gli-stereotipi
END:VEVENT
BEGIN:VTIMEZONE
TZID:Europe/Rome
X-LIC-LOCATION:Europe/Rome
BEGIN:DAYLIGHT
DTSTART;VALUE=DATE-TIME:20240331T030000
TZNAME:CEST
TZOFFSETFROM:+0100
TZOFFSETTO:+0200
END:DAYLIGHT
END:VTIMEZONE
END:VCALENDAR
