BEGIN:VCALENDAR
VERSION:2.0
PRODID:-//Plone.org//NONSGML plone.app.event//EN
X-WR-TIMEZONE:Europe/Rome
BEGIN:VEVENT
SUMMARY:Ciclo di seminari sul servizio sociale con Francisco Aguiar (Unive
 rsidad de Vigo) 
DTSTART;TZID=Europe/Rome;VALUE=DATE-TIME:20180626T170000
DTEND;TZID=Europe/Rome;VALUE=DATE-TIME:20180702T150000
DTSTAMP;VALUE=DATE-TIME:20260422T221630Z
UID:e9659cd6fe2e47c9bbfce505e07d1f09@sde.unibo.it
CREATED;VALUE=DATE-TIME:20180621T104355Z
DESCRIPTION:Welfare State\, servizi sociali e lavoro sociale in Spagna (26
  giugno). Capitalismo globale e sostenibilità. Contributi e sfide per la 
 pratica del lavoro sociale\ncomunitario (27 giugno). Lavoro sociale: risch
 i per la professione e diritti di cittadinanza (2 luglio). 
LAST-MODIFIED;VALUE=DATE-TIME:20180621T104423Z
URL:https://sde.unibo.it/it/eventi/ciclo-di-seminari-sul-servizio-sociale-
 con-francisco-aguiar-universidad-de-vigo
END:VEVENT
BEGIN:VTIMEZONE
TZID:Europe/Rome
X-LIC-LOCATION:Europe/Rome
BEGIN:DAYLIGHT
DTSTART;VALUE=DATE-TIME:20180325T030000
TZNAME:CEST
TZOFFSETFROM:+0100
TZOFFSETTO:+0200
END:DAYLIGHT
END:VTIMEZONE
END:VCALENDAR
