BEGIN:VCALENDAR
VERSION:2.0
PRODID:-//Plone.org//NONSGML plone.app.event//EN
X-WR-TIMEZONE:Europe/Rome
BEGIN:VEVENT
SUMMARY:Ciclo di seminari - Prof. Gunther Teubner (Goethe Universität\, F
 rankfurt am Main)
DTSTART;TZID=Europe/Rome;VALUE=DATE-TIME:20160503T143000
DTEND;TZID=Europe/Rome;VALUE=DATE-TIME:20160506T130000
DTSTAMP;VALUE=DATE-TIME:20260422T140514Z
UID:0b95264f9442431db19d417bbd83bd08@sde.unibo.it
CREATED;VALUE=DATE-TIME:20160411T095506Z
LAST-MODIFIED;VALUE=DATE-TIME:20160411T095516Z
URL:https://sde.unibo.it/it/eventi/ciclo-di-seminari-prof.-gunther-teubner
 -goethe-universitat-frankfurt-am-main
END:VEVENT
BEGIN:VTIMEZONE
TZID:Europe/Rome
X-LIC-LOCATION:Europe/Rome
BEGIN:DAYLIGHT
DTSTART;VALUE=DATE-TIME:20160327T030000
TZNAME:CEST
TZOFFSETFROM:+0100
TZOFFSETTO:+0200
END:DAYLIGHT
END:VTIMEZONE
END:VCALENDAR
