BEGIN:VCALENDAR
VERSION:2.0
PRODID:-//Plone.org//NONSGML plone.app.event//EN
X-WR-TIMEZONE:Europe/Rome
BEGIN:VEVENT
SUMMARY:ciclo di seminari: Oltre la superficie. Lo sguardo sociologico sul
 le società contemporanee.
DTSTART;TZID=Europe/Rome;VALUE=DATE-TIME:20150331T095500
DTEND;TZID=Europe/Rome;VALUE=DATE-TIME:20151203T095500
DTSTAMP;VALUE=DATE-TIME:20260422T143549Z
UID:2a7edc0048c4498995765d99456ea1cc@sde.unibo.it
CREATED;VALUE=DATE-TIME:20150408T060226Z
LAST-MODIFIED;VALUE=DATE-TIME:20150408T060237Z
URL:https://sde.unibo.it/it/eventi/ciclo-di-seminari-oltre-la-superficie.-
 lo-sguardo-sociologico-sulle-societa-contemporanee
END:VEVENT
BEGIN:VTIMEZONE
TZID:Europe/Rome
X-LIC-LOCATION:Europe/Rome
BEGIN:DAYLIGHT
DTSTART;VALUE=DATE-TIME:20150329T030000
TZNAME:CEST
TZOFFSETFROM:+0100
TZOFFSETTO:+0200
END:DAYLIGHT
BEGIN:STANDARD
DTSTART;VALUE=DATE-TIME:20151025T020000
TZNAME:CET
TZOFFSETFROM:+0200
TZOFFSETTO:+0100
END:STANDARD
END:VTIMEZONE
END:VCALENDAR
