BEGIN:VCALENDAR
VERSION:2.0
PRODID:-//Plone.org//NONSGML plone.app.event//EN
X-WR-TIMEZONE:Europe/Rome
BEGIN:VEVENT
SUMMARY:Ciclo di Seminari 2017 Social innovation and its discontents
DTSTART;TZID=Europe/Rome;VALUE=DATE-TIME:20170510T100000
DTEND;TZID=Europe/Rome;VALUE=DATE-TIME:20170510T173000
DTSTAMP;VALUE=DATE-TIME:20260422T223850Z
UID:b64b5401cabb4009a209baf61298cdeb@sde.unibo.it
CREATED;VALUE=DATE-TIME:20170419T072219Z
DESCRIPTION:Prof. Christopher Fox\nProfessor of Evaluation and Policy Anal
 ysis \nDirector of the Policy Evaluation and Research Unit (PERU)\,\nDepar
 tment of Sociology \nManchester Metropolitan University\n
LAST-MODIFIED;VALUE=DATE-TIME:20170419T072241Z
URL:https://sde.unibo.it/it/eventi/ciclo-di-seminari-2017-social-innovatio
 n-and-its-discontents
END:VEVENT
BEGIN:VTIMEZONE
TZID:Europe/Rome
X-LIC-LOCATION:Europe/Rome
BEGIN:DAYLIGHT
DTSTART;VALUE=DATE-TIME:20170326T030000
TZNAME:CEST
TZOFFSETFROM:+0100
TZOFFSETTO:+0200
END:DAYLIGHT
END:VTIMEZONE
END:VCALENDAR
