BEGIN:VCALENDAR
VERSION:2.0
PRODID:-//Plone.org//NONSGML plone.app.event//EN
X-WR-TIMEZONE:Europe/Rome
BEGIN:VEVENT
SUMMARY:Career day - 26 febbraio
DTSTART;TZID=Europe/Rome;VALUE=DATE-TIME:20190226T090000
DTEND;TZID=Europe/Rome;VALUE=DATE-TIME:20190226T180000
DTSTAMP;VALUE=DATE-TIME:20260423T215040Z
UID:0a8c11be57854adc8758edc5973e05aa@sde.unibo.it
CREATED;VALUE=DATE-TIME:20190212T094555Z
DESCRIPTION:Iscriviti online\, conosci le aziende e lascia il tuo cv. Part
 ecipa all'edizione 2019 del Career Day che si svolgerà presso il Padiglio
 ne 33 di Bologna Fiere - Ingresso Aldo Moro
LAST-MODIFIED;VALUE=DATE-TIME:20190212T094609Z
URL:https://sde.unibo.it/it/eventi/career-day-26-febbraio
END:VEVENT
BEGIN:VTIMEZONE
TZID:Europe/Rome
X-LIC-LOCATION:Europe/Rome
BEGIN:STANDARD
DTSTART;VALUE=DATE-TIME:20181028T020000
TZNAME:CET
TZOFFSETFROM:+0200
TZOFFSETTO:+0100
END:STANDARD
END:VTIMEZONE
END:VCALENDAR
