BEGIN:VCALENDAR
VERSION:2.0
PRODID:-//Plone.org//NONSGML plone.app.event//EN
X-WR-TIMEZONE:Europe/Rome
BEGIN:VEVENT
SUMMARY:Bologna si prende cura
DTSTART;VALUE=DATE:20190228
DTEND;VALUE=DATE:20190303
DTSTAMP;VALUE=DATE-TIME:20260423T152805Z
UID:1f535f80013041c79b795d0311a4c647@sde.unibo.it
CREATED;VALUE=DATE-TIME:20190226T113233Z
DESCRIPTION:I tre giorni del welfare - 28 febbraio 1 e 2 marzo 2019
LAST-MODIFIED;VALUE=DATE-TIME:20190226T113534Z
URL:https://sde.unibo.it/it/eventi/bologna-si-prende-cura
END:VEVENT
END:VCALENDAR
