BEGIN:VCALENDAR
VERSION:2.0
PRODID:-//Plone.org//NONSGML plone.app.event//EN
X-WR-TIMEZONE:Europe/Rome
BEGIN:VEVENT
SUMMARY:Bologna oggi
DTSTART;TZID=Europe/Rome;VALUE=DATE-TIME:20190507T210000
DTEND;TZID=Europe/Rome;VALUE=DATE-TIME:20190507T230000
DTSTAMP;VALUE=DATE-TIME:20260426T045037Z
UID:37fdcdf7f2c342869a0207e1775dcba5@sde.unibo.it
CREATED;VALUE=DATE-TIME:20190503T050941Z
DESCRIPTION:anno sociale 2018-2019\nI Martedì di San Domenico\n49° anno 
 15° incontro
LAST-MODIFIED;VALUE=DATE-TIME:20190503T112805Z
URL:https://sde.unibo.it/it/eventi/bologna-oggi
END:VEVENT
BEGIN:VTIMEZONE
TZID:Europe/Rome
X-LIC-LOCATION:Europe/Rome
BEGIN:DAYLIGHT
DTSTART;VALUE=DATE-TIME:20190331T030000
TZNAME:CEST
TZOFFSETFROM:+0100
TZOFFSETTO:+0200
END:DAYLIGHT
END:VTIMEZONE
END:VCALENDAR
