BEGIN:VCALENDAR
VERSION:2.0
PRODID:-//Plone.org//NONSGML plone.app.event//EN
X-WR-TIMEZONE:Europe/Rome
BEGIN:VEVENT
SUMMARY:Bologna la domanda di casa
DTSTART;TZID=Europe/Rome;VALUE=DATE-TIME:20181129T100000
DTEND;TZID=Europe/Rome;VALUE=DATE-TIME:20181129T130000
DTSTAMP;VALUE=DATE-TIME:20260423T234823Z
UID:8f4d46f4edb2463da024a4d5dfcabe65@sde.unibo.it
CREATED;VALUE=DATE-TIME:20181122T072256Z
DESCRIPTION:Una lettura delle graduatorie comunali 2018.\nPresentazione de
 l secondo report.\n\n
LAST-MODIFIED;VALUE=DATE-TIME:20181122T072343Z
URL:https://sde.unibo.it/it/eventi/bologna-la-domanda-di-casa
END:VEVENT
BEGIN:VTIMEZONE
TZID:Europe/Rome
X-LIC-LOCATION:Europe/Rome
BEGIN:STANDARD
DTSTART;VALUE=DATE-TIME:20181028T020000
TZNAME:CET
TZOFFSETFROM:+0200
TZOFFSETTO:+0100
END:STANDARD
END:VTIMEZONE
END:VCALENDAR
