BEGIN:VCALENDAR
VERSION:2.0
PRODID:-//Plone.org//NONSGML plone.app.event//EN
X-WR-TIMEZONE:Europe/Rome
BEGIN:VEVENT
SUMMARY:Beyond Panic. Arts in the Age of the Climate Crisis and Mobilities
  (in)justice
DTSTART;TZID=Europe/Rome;VALUE=DATE-TIME:20231204T130000
DTEND;TZID=Europe/Rome;VALUE=DATE-TIME:20231204T150000
DTSTAMP;VALUE=DATE-TIME:20260419T232943Z
UID:fccac0ccd78c406880a5b03bd03ebcf0@sde.unibo.it
CREATED;VALUE=DATE-TIME:20231117T100851Z
LAST-MODIFIED;VALUE=DATE-TIME:20231117T100852Z
URL:https://sde.unibo.it/it/eventi/beyond-panic-arts-in-the-age-of-the-cli
 mate-crisis-and-mobilities-in-justice
END:VEVENT
BEGIN:VTIMEZONE
TZID:Europe/Rome
X-LIC-LOCATION:Europe/Rome
BEGIN:STANDARD
DTSTART;VALUE=DATE-TIME:20231029T020000
TZNAME:CET
TZOFFSETFROM:+0200
TZOFFSETTO:+0100
END:STANDARD
END:VTIMEZONE
END:VCALENDAR
