BEGIN:VCALENDAR
VERSION:2.0
PRODID:-//Plone.org//NONSGML plone.app.event//EN
X-WR-TIMEZONE:Europe/Rome
BEGIN:VEVENT
SUMMARY:Anno Ardigoiano 2015. Evento del 10 settembre 2015
DTSTART;TZID=Europe/Rome;VALUE=DATE-TIME:20150910T093000
DTEND;TZID=Europe/Rome;VALUE=DATE-TIME:20150910T170000
DTSTAMP;VALUE=DATE-TIME:20260422T235749Z
UID:41de0fbae1b7402a833a735ff56bc94e@sde.unibo.it
CREATED;VALUE=DATE-TIME:20150731T073848Z
DESCRIPTION:Achille Ardigò e Bologna: progettare la solidarietà nella ci
 ttà metropolitana
LAST-MODIFIED;VALUE=DATE-TIME:20150731T074418Z
URL:https://sde.unibo.it/it/eventi/anno-ardigoiano-2015.-evento-del-10-set
 tembre-2015
END:VEVENT
BEGIN:VTIMEZONE
TZID:Europe/Rome
X-LIC-LOCATION:Europe/Rome
BEGIN:DAYLIGHT
DTSTART;VALUE=DATE-TIME:20150329T030000
TZNAME:CEST
TZOFFSETFROM:+0100
TZOFFSETTO:+0200
END:DAYLIGHT
END:VTIMEZONE
END:VCALENDAR
