BEGIN:VCALENDAR
VERSION:2.0
PRODID:-//Plone.org//NONSGML plone.app.event//EN
X-WR-TIMEZONE:Europe/Rome
BEGIN:VEVENT
SUMMARY:Anno Ardigoiano2015: lectio 27 maggio Prof. de Kerckhove
DTSTART;TZID=Europe/Rome;VALUE=DATE-TIME:20150522T110000
DTEND;TZID=Europe/Rome;VALUE=DATE-TIME:20150910T161000
DTSTAMP;VALUE=DATE-TIME:20260422T221521Z
UID:d767de8ae039436bbb8c502443e45dd3@sde.unibo.it
CREATED;VALUE=DATE-TIME:20150320T113524Z
DESCRIPTION:Achille Ardigò e Bologna\, progettare la solidarietà nella c
 ittà metropolitana
LAST-MODIFIED;VALUE=DATE-TIME:20150522T074744Z
URL:https://sde.unibo.it/it/eventi/al-via-il-ciclo-di-lezioni-per-lanno-ar
 digoiano-2015
END:VEVENT
BEGIN:VTIMEZONE
TZID:Europe/Rome
X-LIC-LOCATION:Europe/Rome
BEGIN:DAYLIGHT
DTSTART;VALUE=DATE-TIME:20150329T030000
TZNAME:CEST
TZOFFSETFROM:+0100
TZOFFSETTO:+0200
END:DAYLIGHT
END:VTIMEZONE
END:VCALENDAR
