BEGIN:VCALENDAR
VERSION:2.0
PRODID:-//Plone.org//NONSGML plone.app.event//EN
X-WR-TIMEZONE:Europe/Rome
BEGIN:VEVENT
SUMMARY:Ai margini del margine. Processi di bordering\, ordering\, otherin
 g.
DTSTART;TZID=Europe/Rome;VALUE=DATE-TIME:20231024T110000
DTEND;TZID=Europe/Rome;VALUE=DATE-TIME:20231024T130000
DTSTAMP;VALUE=DATE-TIME:20260425T160236Z
UID:0b570229d8614cbe863adcd0d819d120@sde.unibo.it
CREATED;VALUE=DATE-TIME:20231016T133621Z
DESCRIPTION:Evento organizzato all'interno del progetto "Reimagining Mobil
 ities. Prospettive creative per reimmaginare mobilità\, confini e alterit
 à".
LAST-MODIFIED;VALUE=DATE-TIME:20231016T133621Z
URL:https://sde.unibo.it/it/eventi/ai-margini-del-margine-processi-di-bord
 ering-ordering-othering
END:VEVENT
BEGIN:VTIMEZONE
TZID:Europe/Rome
X-LIC-LOCATION:Europe/Rome
BEGIN:DAYLIGHT
DTSTART;VALUE=DATE-TIME:20230326T030000
TZNAME:CEST
TZOFFSETFROM:+0100
TZOFFSETTO:+0200
END:DAYLIGHT
END:VTIMEZONE
END:VCALENDAR
