BEGIN:VCALENDAR
VERSION:2.0
PRODID:-//Plone.org//NONSGML plone.app.event//EN
X-WR-TIMEZONE:Europe/Rome
BEGIN:VEVENT
SUMMARY:AI and Labour Law from an EU law perspective
DTSTART;TZID=Europe/Rome;VALUE=DATE-TIME:20241002T113000
DTEND;TZID=Europe/Rome;VALUE=DATE-TIME:20241002T130000
DTSTAMP;VALUE=DATE-TIME:20260422T025325Z
UID:d442c22ec1284673b660d9120b91958a@sde.unibo.it
CREATED;VALUE=DATE-TIME:20240919T083903Z
DESCRIPTION:Lunch Seminar con Friederike Malorny\, organizzato dal Centro 
 di Ricerca Interdisciplinare sui Diritti Sociali.
LAST-MODIFIED;VALUE=DATE-TIME:20240919T083903Z
URL:https://sde.unibo.it/it/eventi/ai-and-labour-law-from-an-eu-law-perspe
 ctive
END:VEVENT
BEGIN:VTIMEZONE
TZID:Europe/Rome
X-LIC-LOCATION:Europe/Rome
BEGIN:DAYLIGHT
DTSTART;VALUE=DATE-TIME:20240331T030000
TZNAME:CEST
TZOFFSETFROM:+0100
TZOFFSETTO:+0200
END:DAYLIGHT
END:VTIMEZONE
END:VCALENDAR
