BEGIN:VCALENDAR
VERSION:2.0
PRODID:-//Plone.org//NONSGML plone.app.event//EN
X-WR-TIMEZONE:Europe/Rome
BEGIN:VEVENT
SUMMARY:Accompagnamento delle vittime del crimine e prevenzione psicosocia
 le: una esperienza in Messico 
DTSTART;TZID=Europe/Rome;VALUE=DATE-TIME:20180118T143000
DTEND;TZID=Europe/Rome;VALUE=DATE-TIME:20180118T153000
DTSTAMP;VALUE=DATE-TIME:20260422T190926Z
UID:b17e788bacbf48709878d2f84ffa803f@sde.unibo.it
CREATED;VALUE=DATE-TIME:20180111T105614Z
LAST-MODIFIED;VALUE=DATE-TIME:20180111T105637Z
URL:https://sde.unibo.it/it/eventi/accompagnamento-delle-vittime-del-crimi
 ne-e-prevenzione-psicosociale-una-esperienza-in-messico
END:VEVENT
BEGIN:VTIMEZONE
TZID:Europe/Rome
X-LIC-LOCATION:Europe/Rome
BEGIN:STANDARD
DTSTART;VALUE=DATE-TIME:20171029T020000
TZNAME:CET
TZOFFSETFROM:+0200
TZOFFSETTO:+0100
END:STANDARD
END:VTIMEZONE
END:VCALENDAR
