BEGIN:VCALENDAR
VERSION:2.0
PRODID:-//Plone.org//NONSGML plone.app.event//EN
X-WR-TIMEZONE:Europe/Rome
BEGIN:VEVENT
SUMMARY:Abitare Sociale
DTSTART;TZID=Europe/Rome;VALUE=DATE-TIME:20201211T090000
DTEND;TZID=Europe/Rome;VALUE=DATE-TIME:20201211T130000
DTSTAMP;VALUE=DATE-TIME:20260426T050139Z
UID:1bdf75487dc84fa1b4b500ae60014e42@sde.unibo.it
CREATED;VALUE=DATE-TIME:20201214T112146Z
DESCRIPTION:nuovi modi di fare casa
LAST-MODIFIED;VALUE=DATE-TIME:20201214T112334Z
URL:https://sde.unibo.it/it/eventi/abitare-sociale-nuovi-modi-di-fare-casa
END:VEVENT
BEGIN:VTIMEZONE
TZID:Europe/Rome
X-LIC-LOCATION:Europe/Rome
BEGIN:STANDARD
DTSTART;VALUE=DATE-TIME:20201025T020000
TZNAME:CET
TZOFFSETFROM:+0200
TZOFFSETTO:+0100
END:STANDARD
END:VTIMEZONE
END:VCALENDAR
