BEGIN:VCALENDAR
VERSION:2.0
PRODID:-//Plone.org//NONSGML plone.app.event//EN
X-WR-TIMEZONE:Europe/Rome
BEGIN:VEVENT
SUMMARY:Abitare il futuro. Innovazione culturale e habitat
DTSTART;TZID=Europe/Rome;VALUE=DATE-TIME:20220916T090000
DTEND;TZID=Europe/Rome;VALUE=DATE-TIME:20220916T180000
DTSTAMP;VALUE=DATE-TIME:20260421T142823Z
UID:1ca48370500e457594af44a41f5c97ef@sde.unibo.it
CREATED;VALUE=DATE-TIME:20220911T092449Z
LAST-MODIFIED;VALUE=DATE-TIME:20220913T092339Z
URL:https://sde.unibo.it/it/eventi/abitare-il-futuro-innovazione-culturale
 -e-habitat
END:VEVENT
BEGIN:VTIMEZONE
TZID:Europe/Rome
X-LIC-LOCATION:Europe/Rome
BEGIN:DAYLIGHT
DTSTART;VALUE=DATE-TIME:20220327T030000
TZNAME:CEST
TZOFFSETFROM:+0100
TZOFFSETTO:+0200
END:DAYLIGHT
END:VTIMEZONE
END:VCALENDAR
